BEGIN:VCALENDAR
VERSION:2.0
PRODID:-//Kingdom Kids - ECPv6.15.20//NONSGML v1.0//EN
CALSCALE:GREGORIAN
METHOD:PUBLISH
X-WR-CALNAME:Kingdom Kids
X-ORIGINAL-URL:https://kingdomkidscdc.org
X-WR-CALDESC:Events for Kingdom Kids
REFRESH-INTERVAL;VALUE=DURATION:PT1H
X-Robots-Tag:noindex
X-PUBLISHED-TTL:PT1H
BEGIN:VTIMEZONE
TZID:America/Chicago
BEGIN:DAYLIGHT
TZOFFSETFROM:-0600
TZOFFSETTO:-0500
TZNAME:CDT
DTSTART:20250309T080000
END:DAYLIGHT
BEGIN:STANDARD
TZOFFSETFROM:-0500
TZOFFSETTO:-0600
TZNAME:CST
DTSTART:20251102T070000
END:STANDARD
BEGIN:DAYLIGHT
TZOFFSETFROM:-0600
TZOFFSETTO:-0500
TZNAME:CDT
DTSTART:20260308T080000
END:DAYLIGHT
BEGIN:STANDARD
TZOFFSETFROM:-0500
TZOFFSETTO:-0600
TZNAME:CST
DTSTART:20261101T070000
END:STANDARD
BEGIN:DAYLIGHT
TZOFFSETFROM:-0600
TZOFFSETTO:-0500
TZNAME:CDT
DTSTART:20270314T080000
END:DAYLIGHT
BEGIN:STANDARD
TZOFFSETFROM:-0500
TZOFFSETTO:-0600
TZNAME:CST
DTSTART:20271107T070000
END:STANDARD
END:VTIMEZONE
BEGIN:VEVENT
DTSTART;VALUE=DATE:20260423
DTEND;VALUE=DATE:20260424
DTSTAMP:20260423T045608
CREATED:20260401T231440Z
LAST-MODIFIED:20260401T231440Z
UID:10000399-1776902400-1776988799@kingdomkidscdc.org
SUMMARY:Toad
DESCRIPTION:Frogs & Toads\nmy pet toad\ntoad pond
URL:https://kingdomkidscdc.org/event/toad/
CATEGORIES:daycare,early pre K
END:VEVENT
BEGIN:VEVENT
DTSTART;VALUE=DATE:20260424
DTEND;VALUE=DATE:20260425
DTSTAMP:20260423T045608
CREATED:20260401T225624Z
LAST-MODIFIED:20260401T225624Z
UID:10000383-1776988800-1777075199@kingdomkidscdc.org
SUMMARY:Arbor Day Wear Green
DESCRIPTION:
URL:https://kingdomkidscdc.org/event/arbor-day-wear-green/
CATEGORIES:notes
END:VEVENT
BEGIN:VEVENT
DTSTART;VALUE=DATE:20260424
DTEND;VALUE=DATE:20260425
DTSTAMP:20260423T045608
CREATED:20260401T231519Z
LAST-MODIFIED:20260401T231519Z
UID:10000400-1776988800-1777075199@kingdomkidscdc.org
SUMMARY:Bee
DESCRIPTION:Bee letters\npoppies\ndesign a beehive
URL:https://kingdomkidscdc.org/event/bee/
CATEGORIES:daycare,early pre K
END:VEVENT
BEGIN:VEVENT
DTSTART;VALUE=DATE:20260427
DTEND;VALUE=DATE:20260428
DTSTAMP:20260423T045608
CREATED:20260401T231610Z
LAST-MODIFIED:20260401T231610Z
UID:10000401-1777248000-1777334399@kingdomkidscdc.org
SUMMARY:Carrot
DESCRIPTION:Take a bite\ngarden dominoes\ndigging for carrots
URL:https://kingdomkidscdc.org/event/carrot/
CATEGORIES:daycare,early pre K
END:VEVENT
BEGIN:VEVENT
DTSTART;VALUE=DATE:20260428
DTEND;VALUE=DATE:20260429
DTSTAMP:20260423T045608
CREATED:20260401T225708Z
LAST-MODIFIED:20260401T225708Z
UID:10000384-1777334400-1777420799@kingdomkidscdc.org
SUMMARY:Super Hero Day
DESCRIPTION:Dress like a superhero \n 
URL:https://kingdomkidscdc.org/event/super-hero-day/
CATEGORIES:notes
END:VEVENT
BEGIN:VEVENT
DTSTART;VALUE=DATE:20260428
DTEND;VALUE=DATE:20260429
DTSTAMP:20260423T045608
CREATED:20260401T231654Z
LAST-MODIFIED:20260401T231654Z
UID:10000402-1777334400-1777420799@kingdomkidscdc.org
SUMMARY:Potato
DESCRIPTION:Potato soup\ngarden postcard\npotato pile
URL:https://kingdomkidscdc.org/event/potato/
CATEGORIES:daycare,early pre K
END:VEVENT
BEGIN:VEVENT
DTSTART;VALUE=DATE:20260429
DTEND;VALUE=DATE:20260430
DTSTAMP:20260423T045608
CREATED:20260401T231731Z
LAST-MODIFIED:20260401T231731Z
UID:10000403-1777420800-1777507199@kingdomkidscdc.org
SUMMARY:Bean
DESCRIPTION:letters on vines\nstone soup collage\nbeanbag
URL:https://kingdomkidscdc.org/event/bean/
CATEGORIES:daycare,early pre K
END:VEVENT
BEGIN:VEVENT
DTSTART;VALUE=DATE:20260430
DTEND;VALUE=DATE:20260501
DTSTAMP:20260423T045608
CREATED:20260401T225502Z
LAST-MODIFIED:20260401T225502Z
UID:10000380-1777507200-1777593599@kingdomkidscdc.org
SUMMARY:PJ Day
DESCRIPTION:No House Shoes \nNo one-piece pj’s\, please
URL:https://kingdomkidscdc.org/event/pj-day-16/
CATEGORIES:notes
END:VEVENT
BEGIN:VEVENT
DTSTART;VALUE=DATE:20260430
DTEND;VALUE=DATE:20260501
DTSTAMP:20260423T045608
CREATED:20260401T231814Z
LAST-MODIFIED:20260401T231814Z
UID:10000404-1777507200-1777593599@kingdomkidscdc.org
SUMMARY:Pea
DESCRIPTION:pea puzzles\npeas in a pod\nsalt dough peas
URL:https://kingdomkidscdc.org/event/pea/
CATEGORIES:daycare,early pre K
END:VEVENT
END:VCALENDAR