BEGIN:VCALENDAR
VERSION:2.0
PRODID:-//Kingdom Kids - ECPv6.15.20//NONSGML v1.0//EN
CALSCALE:GREGORIAN
METHOD:PUBLISH
X-ORIGINAL-URL:https://kingdomkidscdc.org
X-WR-CALDESC:Events for Kingdom Kids
REFRESH-INTERVAL;VALUE=DURATION:PT1H
X-Robots-Tag:noindex
X-PUBLISHED-TTL:PT1H
BEGIN:VTIMEZONE
TZID:America/Chicago
BEGIN:DAYLIGHT
TZOFFSETFROM:-0600
TZOFFSETTO:-0500
TZNAME:CDT
DTSTART:20250309T080000
END:DAYLIGHT
BEGIN:STANDARD
TZOFFSETFROM:-0500
TZOFFSETTO:-0600
TZNAME:CST
DTSTART:20251102T070000
END:STANDARD
BEGIN:DAYLIGHT
TZOFFSETFROM:-0600
TZOFFSETTO:-0500
TZNAME:CDT
DTSTART:20260308T080000
END:DAYLIGHT
BEGIN:STANDARD
TZOFFSETFROM:-0500
TZOFFSETTO:-0600
TZNAME:CST
DTSTART:20261101T070000
END:STANDARD
BEGIN:DAYLIGHT
TZOFFSETFROM:-0600
TZOFFSETTO:-0500
TZNAME:CDT
DTSTART:20270314T080000
END:DAYLIGHT
BEGIN:STANDARD
TZOFFSETFROM:-0500
TZOFFSETTO:-0600
TZNAME:CST
DTSTART:20271107T070000
END:STANDARD
END:VTIMEZONE
BEGIN:VEVENT
DTSTART;VALUE=DATE:20260410
DTEND;VALUE=DATE:20260411
DTSTAMP:20260425T154023
CREATED:20260401T230722Z
LAST-MODIFIED:20260401T230722Z
UID:10000390-1775779200-1775865599@kingdomkidscdc.org
SUMMARY:Worm
DESCRIPTION:digging for worms\nworm race\nworm tunnels
URL:https://kingdomkidscdc.org/event/worm/
CATEGORIES:daycare,early pre K
END:VEVENT
BEGIN:VEVENT
DTSTART;VALUE=DATE:20260413
DTEND;VALUE=DATE:20260414
DTSTAMP:20260425T154023
CREATED:20260401T230815Z
LAST-MODIFIED:20260401T230815Z
UID:10000391-1776038400-1776124799@kingdomkidscdc.org
SUMMARY:Sprout & Stem
DESCRIPTION:my seed story\nplant designs\nstem drinking
URL:https://kingdomkidscdc.org/event/sprout-stem/
CATEGORIES:daycare,early pre K
END:VEVENT
BEGIN:VEVENT
DTSTART;VALUE=DATE:20260414
DTEND;VALUE=DATE:20260415
DTSTAMP:20260425T154023
CREATED:20260401T225419Z
LAST-MODIFIED:20260401T225419Z
UID:10000378-1776124800-1776211199@kingdomkidscdc.org
SUMMARY:PJ Day
DESCRIPTION:No House Shoes \nNo one-piece pj’s\, please
URL:https://kingdomkidscdc.org/event/pj-day-14/
CATEGORIES:notes
END:VEVENT
BEGIN:VEVENT
DTSTART;VALUE=DATE:20260414
DTEND;VALUE=DATE:20260415
DTSTAMP:20260425T154023
CREATED:20260401T230902Z
LAST-MODIFIED:20260401T230902Z
UID:10000392-1776124800-1776211199@kingdomkidscdc.org
SUMMARY:Leaf
DESCRIPTION:loose parts of plants\nplants parts\nleaf rubbing
URL:https://kingdomkidscdc.org/event/leaf/
CATEGORIES:daycare,early pre K
END:VEVENT
BEGIN:VEVENT
DTSTART;VALUE=DATE:20260415
DTEND;VALUE=DATE:20260416
DTSTAMP:20260425T154023
CREATED:20260401T231001Z
LAST-MODIFIED:20260401T231001Z
UID:10000393-1776211200-1776297599@kingdomkidscdc.org
SUMMARY:Flower
DESCRIPTION:pollinating letter F\nflower garden\nflower shop
URL:https://kingdomkidscdc.org/event/flower/
CATEGORIES:daycare,early pre K
END:VEVENT
BEGIN:VEVENT
DTSTART;VALUE=DATE:20260416
DTEND;VALUE=DATE:20260417
DTSTAMP:20260425T154023
CREATED:20260401T231049Z
LAST-MODIFIED:20260401T231049Z
UID:10000394-1776297600-1776383999@kingdomkidscdc.org
SUMMARY:Produce
DESCRIPTION:at the market\nrabbit relay\npicking produce
URL:https://kingdomkidscdc.org/event/produce/
CATEGORIES:daycare,early pre K
END:VEVENT
BEGIN:VEVENT
DTSTART;VALUE=DATE:20260417
DTEND;VALUE=DATE:20260418
DTSTAMP:20260425T154023
CREATED:20260401T225440Z
LAST-MODIFIED:20260401T225440Z
UID:10000379-1776384000-1776470399@kingdomkidscdc.org
SUMMARY:PJ Day
DESCRIPTION:No House Shoes \nNo one-piece pj’s\, please
URL:https://kingdomkidscdc.org/event/pj-day-15/
CATEGORIES:notes
END:VEVENT
BEGIN:VEVENT
DTSTART;VALUE=DATE:20260417
DTEND;VALUE=DATE:20260418
DTSTAMP:20260425T154023
CREATED:20260401T231128Z
LAST-MODIFIED:20260401T231128Z
UID:10000395-1776384000-1776470399@kingdomkidscdc.org
SUMMARY:Weeds
DESCRIPTION:weeding the letters\ndandilions\nweeding
URL:https://kingdomkidscdc.org/event/weeds/
CATEGORIES:daycare,early pre K
END:VEVENT
BEGIN:VEVENT
DTSTART;VALUE=DATE:20260420
DTEND;VALUE=DATE:20260421
DTSTAMP:20260425T154023
CREATED:20260401T231215Z
LAST-MODIFIED:20260401T231215Z
UID:10000396-1776643200-1776729599@kingdomkidscdc.org
SUMMARY:Mole
DESCRIPTION:building a tunnel\nunder the dirt\nmole maze
URL:https://kingdomkidscdc.org/event/mole/
CATEGORIES:daycare,early pre K
END:VEVENT
BEGIN:VEVENT
DTSTART;VALUE=DATE:20260421
DTEND;VALUE=DATE:20260422
DTSTAMP:20260425T154023
CREATED:20260401T231257Z
LAST-MODIFIED:20260401T231257Z
UID:10000397-1776729600-1776815999@kingdomkidscdc.org
SUMMARY:Crow
DESCRIPTION:build a scarecrow\nfeed the vroe\ncrow’s nest
URL:https://kingdomkidscdc.org/event/crow/
CATEGORIES:daycare,early pre K
END:VEVENT
BEGIN:VEVENT
DTSTART;VALUE=DATE:20260422
DTEND;VALUE=DATE:20260423
DTSTAMP:20260425T154023
CREATED:20260401T225559Z
LAST-MODIFIED:20260401T225559Z
UID:10000382-1776816000-1776902399@kingdomkidscdc.org
SUMMARY:Earth Day Wear Blue
DESCRIPTION:
URL:https://kingdomkidscdc.org/event/earth-day-wear-blue/
CATEGORIES:notes
END:VEVENT
BEGIN:VEVENT
DTSTART;VALUE=DATE:20260422
DTEND;VALUE=DATE:20260423
DTSTAMP:20260425T154023
CREATED:20260401T231349Z
LAST-MODIFIED:20260401T231349Z
UID:10000398-1776816000-1776902399@kingdomkidscdc.org
SUMMARY:Rabbit
DESCRIPTION:bunny trail alphabet\nrabbit mask\nbunny on top
URL:https://kingdomkidscdc.org/event/rabbit/
CATEGORIES:daycare,early pre K
END:VEVENT
BEGIN:VEVENT
DTSTART;VALUE=DATE:20260423
DTEND;VALUE=DATE:20260424
DTSTAMP:20260425T154023
CREATED:20260401T231440Z
LAST-MODIFIED:20260401T231440Z
UID:10000399-1776902400-1776988799@kingdomkidscdc.org
SUMMARY:Toad
DESCRIPTION:Frogs & Toads\nmy pet toad\ntoad pond
URL:https://kingdomkidscdc.org/event/toad/
CATEGORIES:daycare,early pre K
END:VEVENT
BEGIN:VEVENT
DTSTART;VALUE=DATE:20260424
DTEND;VALUE=DATE:20260425
DTSTAMP:20260425T154023
CREATED:20260401T225624Z
LAST-MODIFIED:20260401T225624Z
UID:10000383-1776988800-1777075199@kingdomkidscdc.org
SUMMARY:Arbor Day Wear Green
DESCRIPTION:
URL:https://kingdomkidscdc.org/event/arbor-day-wear-green/
CATEGORIES:notes
END:VEVENT
BEGIN:VEVENT
DTSTART;VALUE=DATE:20260424
DTEND;VALUE=DATE:20260425
DTSTAMP:20260425T154023
CREATED:20260401T231519Z
LAST-MODIFIED:20260401T231519Z
UID:10000400-1776988800-1777075199@kingdomkidscdc.org
SUMMARY:Bee
DESCRIPTION:Bee letters\npoppies\ndesign a beehive
URL:https://kingdomkidscdc.org/event/bee/
CATEGORIES:daycare,early pre K
END:VEVENT
BEGIN:VEVENT
DTSTART;VALUE=DATE:20260427
DTEND;VALUE=DATE:20260428
DTSTAMP:20260425T154023
CREATED:20260401T231610Z
LAST-MODIFIED:20260401T231610Z
UID:10000401-1777248000-1777334399@kingdomkidscdc.org
SUMMARY:Carrot
DESCRIPTION:Take a bite\ngarden dominoes\ndigging for carrots
URL:https://kingdomkidscdc.org/event/carrot/
CATEGORIES:daycare,early pre K
END:VEVENT
BEGIN:VEVENT
DTSTART;VALUE=DATE:20260428
DTEND;VALUE=DATE:20260429
DTSTAMP:20260425T154023
CREATED:20260401T225708Z
LAST-MODIFIED:20260401T225708Z
UID:10000384-1777334400-1777420799@kingdomkidscdc.org
SUMMARY:Super Hero Day
DESCRIPTION:Dress like a superhero \n 
URL:https://kingdomkidscdc.org/event/super-hero-day/
CATEGORIES:notes
END:VEVENT
BEGIN:VEVENT
DTSTART;VALUE=DATE:20260428
DTEND;VALUE=DATE:20260429
DTSTAMP:20260425T154023
CREATED:20260401T231654Z
LAST-MODIFIED:20260401T231654Z
UID:10000402-1777334400-1777420799@kingdomkidscdc.org
SUMMARY:Potato
DESCRIPTION:Potato soup\ngarden postcard\npotato pile
URL:https://kingdomkidscdc.org/event/potato/
CATEGORIES:daycare,early pre K
END:VEVENT
BEGIN:VEVENT
DTSTART;VALUE=DATE:20260429
DTEND;VALUE=DATE:20260430
DTSTAMP:20260425T154023
CREATED:20260401T231731Z
LAST-MODIFIED:20260401T231731Z
UID:10000403-1777420800-1777507199@kingdomkidscdc.org
SUMMARY:Bean
DESCRIPTION:letters on vines\nstone soup collage\nbeanbag
URL:https://kingdomkidscdc.org/event/bean/
CATEGORIES:daycare,early pre K
END:VEVENT
BEGIN:VEVENT
DTSTART;VALUE=DATE:20260430
DTEND;VALUE=DATE:20260501
DTSTAMP:20260425T154023
CREATED:20260401T225502Z
LAST-MODIFIED:20260401T225502Z
UID:10000380-1777507200-1777593599@kingdomkidscdc.org
SUMMARY:PJ Day
DESCRIPTION:No House Shoes \nNo one-piece pj’s\, please
URL:https://kingdomkidscdc.org/event/pj-day-16/
CATEGORIES:notes
END:VEVENT
BEGIN:VEVENT
DTSTART;VALUE=DATE:20260430
DTEND;VALUE=DATE:20260501
DTSTAMP:20260425T154023
CREATED:20260401T231814Z
LAST-MODIFIED:20260401T231814Z
UID:10000404-1777507200-1777593599@kingdomkidscdc.org
SUMMARY:Pea
DESCRIPTION:pea puzzles\npeas in a pod\nsalt dough peas
URL:https://kingdomkidscdc.org/event/pea/
CATEGORIES:daycare,early pre K
END:VEVENT
BEGIN:VEVENT
DTSTART;VALUE=DATE:20260501
DTEND;VALUE=DATE:20260502
DTSTAMP:20260425T154023
CREATED:20260401T231856Z
LAST-MODIFIED:20260401T231856Z
UID:10000405-1777593600-1777679999@kingdomkidscdc.org
SUMMARY:Tomato
DESCRIPTION:tomato garden\ntomato roll\nshaped gardens
URL:https://kingdomkidscdc.org/event/tomato/
CATEGORIES:daycare,early pre K
END:VEVENT
END:VCALENDAR