BEGIN:VCALENDAR
VERSION:2.0
PRODID:-//Kingdom Kids - ECPv6.15.20//NONSGML v1.0//EN
CALSCALE:GREGORIAN
METHOD:PUBLISH
X-WR-CALNAME:Kingdom Kids
X-ORIGINAL-URL:https://kingdomkidscdc.org
X-WR-CALDESC:Events for Kingdom Kids
REFRESH-INTERVAL;VALUE=DURATION:PT1H
X-Robots-Tag:noindex
X-PUBLISHED-TTL:PT1H
BEGIN:VTIMEZONE
TZID:America/Chicago
BEGIN:DAYLIGHT
TZOFFSETFROM:-0600
TZOFFSETTO:-0500
TZNAME:CDT
DTSTART:20240310T080000
END:DAYLIGHT
BEGIN:STANDARD
TZOFFSETFROM:-0500
TZOFFSETTO:-0600
TZNAME:CST
DTSTART:20241103T070000
END:STANDARD
BEGIN:DAYLIGHT
TZOFFSETFROM:-0600
TZOFFSETTO:-0500
TZNAME:CDT
DTSTART:20250309T080000
END:DAYLIGHT
BEGIN:STANDARD
TZOFFSETFROM:-0500
TZOFFSETTO:-0600
TZNAME:CST
DTSTART:20251102T070000
END:STANDARD
BEGIN:DAYLIGHT
TZOFFSETFROM:-0600
TZOFFSETTO:-0500
TZNAME:CDT
DTSTART:20260308T080000
END:DAYLIGHT
BEGIN:STANDARD
TZOFFSETFROM:-0500
TZOFFSETTO:-0600
TZNAME:CST
DTSTART:20261101T070000
END:STANDARD
BEGIN:DAYLIGHT
TZOFFSETFROM:-0600
TZOFFSETTO:-0500
TZNAME:CDT
DTSTART:20270314T080000
END:DAYLIGHT
BEGIN:STANDARD
TZOFFSETFROM:-0500
TZOFFSETTO:-0600
TZNAME:CST
DTSTART:20271107T070000
END:STANDARD
END:VTIMEZONE
BEGIN:VEVENT
DTSTART;VALUE=DATE:20260216
DTEND;VALUE=DATE:20260217
DTSTAMP:20260425T183400
CREATED:20260204T203725Z
LAST-MODIFIED:20260204T203725Z
UID:10000362-1771200000-1771286399@kingdomkidscdc.org
SUMMARY:Presidents Day
DESCRIPTION:Wear Red White and blue
URL:https://kingdomkidscdc.org/event/presidents-day/
CATEGORIES:notes
END:VEVENT
BEGIN:VEVENT
DTSTART;VALUE=DATE:20260212
DTEND;VALUE=DATE:20260213
DTSTAMP:20260425T183400
CREATED:20260204T203633Z
LAST-MODIFIED:20260204T203633Z
UID:10000361-1770854400-1770940799@kingdomkidscdc.org
SUMMARY:Wear Pink
DESCRIPTION:Valentine Exchange for our TTH friends.
URL:https://kingdomkidscdc.org/event/wear-pink/
CATEGORIES:notes
END:VEVENT
BEGIN:VEVENT
DTSTART;VALUE=DATE:20260211
DTEND;VALUE=DATE:20260212
DTSTAMP:20260425T183400
CREATED:20260204T203545Z
LAST-MODIFIED:20260204T203545Z
UID:10000360-1770768000-1770854399@kingdomkidscdc.org
SUMMARY:Wear RED
DESCRIPTION:Valentine Exchange for our MWF and Full-Time Friends.
URL:https://kingdomkidscdc.org/event/wear-red-2/
CATEGORIES:notes
END:VEVENT
BEGIN:VEVENT
DTSTART;VALUE=DATE:20260209
DTEND;VALUE=DATE:20260214
DTSTAMP:20260425T183400
CREATED:20260204T202834Z
LAST-MODIFIED:20260204T202834Z
UID:10000354-1770595200-1771027199@kingdomkidscdc.org
SUMMARY:Feelings
DESCRIPTION:Feelings chart at circle time \n\n\nTrace letter F \n\n\nCount 3–4 emotion cards
URL:https://kingdomkidscdc.org/event/feelings/
CATEGORIES:daycare
END:VEVENT
BEGIN:VEVENT
DTSTART;VALUE=DATE:20260202
DTEND;VALUE=DATE:20260207
DTSTAMP:20260425T183400
CREATED:20260204T202658Z
LAST-MODIFIED:20260204T202658Z
UID:10000353-1769990400-1770422399@kingdomkidscdc.org
SUMMARY:Love and Family
DESCRIPTION:Draw family pictures \n\n\nValentine card making \n\n\nTrace letter L \n\n\nCount 3–4 hearts
URL:https://kingdomkidscdc.org/event/love-and-family/
CATEGORIES:daycare
END:VEVENT
BEGIN:VEVENT
DTSTART;VALUE=DATE:20260201
DTEND;VALUE=DATE:20260202
DTSTAMP:20260425T183400
CREATED:20260204T203136Z
LAST-MODIFIED:20260204T203136Z
UID:10000357-1769904000-1769990399@kingdomkidscdc.org
SUMMARY:Memory Verse
DESCRIPTION:“Because of the Lord’s great love we are not consumed\,for His compassions never fail.They are new every morning;great is Your faithfulness.”— Lamentations 3:22–23
URL:https://kingdomkidscdc.org/event/memory-verse-2/
CATEGORIES:notes
END:VEVENT
BEGIN:VEVENT
DTSTART;VALUE=DATE:20260130
DTEND;VALUE=DATE:20260131
DTSTAMP:20260425T183400
CREATED:20251231T220942Z
LAST-MODIFIED:20251231T220942Z
UID:10000348-1769731200-1769817599@kingdomkidscdc.org
SUMMARY:PJ Day
DESCRIPTION:Reminder: NO one-piece PJ’s and NO house shoes
URL:https://kingdomkidscdc.org/event/pj-day-8/
CATEGORIES:notes
END:VEVENT
BEGIN:VEVENT
DTSTART;VALUE=DATE:20260127
DTEND;VALUE=DATE:20260128
DTSTAMP:20260425T183400
CREATED:20251231T221438Z
LAST-MODIFIED:20251231T221438Z
UID:10000352-1769472000-1769558399@kingdomkidscdc.org
SUMMARY:Inside Out day
DESCRIPTION:Wear your clothes inside out
URL:https://kingdomkidscdc.org/event/inside-out-day/
CATEGORIES:notes
END:VEVENT
BEGIN:VEVENT
DTSTART;VALUE=DATE:20260126
DTEND;VALUE=DATE:20260131
DTSTAMP:20260425T183400
CREATED:20251216T201526Z
LAST-MODIFIED:20251216T201526Z
UID:10000342-1769385600-1769817599@kingdomkidscdc.org
SUMMARY:New Beginnings
DESCRIPTION:Goals: Routines\, expression\, independence \nActivities: \n\n\nNew Year handprint keepsake \n\n\nPicture-choice “goals jar” \n\n\nClassroom clean-and-sort activity \n\n\nBlue & white color exploration
URL:https://kingdomkidscdc.org/event/new-beginnings/
CATEGORIES:daycare
END:VEVENT
BEGIN:VEVENT
DTSTART;VALUE=DATE:20260122
DTEND;VALUE=DATE:20260123
DTSTAMP:20260425T183400
CREATED:20251231T220917Z
LAST-MODIFIED:20251231T220917Z
UID:10000347-1769040000-1769126399@kingdomkidscdc.org
SUMMARY:PJ Day
DESCRIPTION:Reminder: NO one-piece PJ’s and NO house shoes
URL:https://kingdomkidscdc.org/event/pj-day-7/
CATEGORIES:notes
END:VEVENT
BEGIN:VEVENT
DTSTART;VALUE=DATE:20260119
DTEND;VALUE=DATE:20260124
DTSTAMP:20260425T183400
CREATED:20251216T201338Z
LAST-MODIFIED:20251216T201402Z
UID:10000340-1768780800-1769212799@kingdomkidscdc.org
SUMMARY:Warm & Cozy
DESCRIPTION:Goals: Self-help skills\, dressing for the weather \nActivities: Mitten matching game \nPretend hot cocoa station \nSoft vs. scratchy sensory board \nDress-the-bear winter clothing activity
URL:https://kingdomkidscdc.org/event/warm-cozy/
CATEGORIES:daycare
END:VEVENT
BEGIN:VEVENT
DTSTART;VALUE=DATE:20260119
DTEND;VALUE=DATE:20260120
DTSTAMP:20260425T183400
CREATED:20251231T221402Z
LAST-MODIFIED:20251231T221402Z
UID:10000351-1768780800-1768867199@kingdomkidscdc.org
SUMMARY:Wear Red\, White\, and Blue
DESCRIPTION:Celebrate Martin Luther King Jr
URL:https://kingdomkidscdc.org/event/wear-red-white-and-blue/
CATEGORIES:notes
END:VEVENT
BEGIN:VEVENT
DTSTART;VALUE=DATE:20260115
DTEND;VALUE=DATE:20260116
DTSTAMP:20260425T183400
CREATED:20251231T221101Z
LAST-MODIFIED:20251231T221101Z
UID:10000350-1768435200-1768521599@kingdomkidscdc.org
SUMMARY:Favorite Team Day
DESCRIPTION:
URL:https://kingdomkidscdc.org/event/favorite-team-day/
CATEGORIES:notes
END:VEVENT
BEGIN:VEVENT
DTSTART;VALUE=DATE:20260112
DTEND;VALUE=DATE:20260117
DTSTAMP:20260425T183400
CREATED:20251216T201047Z
LAST-MODIFIED:20251216T201047Z
UID:10000339-1768176000-1768607999@kingdomkidscdc.org
SUMMARY:Winter Animals
DESCRIPTION:Goals: Animal identification\, fine motor \nActivities: \n\n\nPenguin footprint craft \n\n\nPolar bear cotton-ball art \n\n\nArctic animal sensory bin \n\n\nFeed-the-Penguin pom-pom game
URL:https://kingdomkidscdc.org/event/winter-animals/
END:VEVENT
BEGIN:VEVENT
DTSTART;VALUE=DATE:20260112
DTEND;VALUE=DATE:20260113
DTSTAMP:20260425T183400
CREATED:20251231T220853Z
LAST-MODIFIED:20251231T220853Z
UID:10000346-1768176000-1768262399@kingdomkidscdc.org
SUMMARY:PJ Day
DESCRIPTION:Reminder: NO one-piece PJ’s and NO house shoes
URL:https://kingdomkidscdc.org/event/pj-day-6/
CATEGORIES:notes
END:VEVENT
BEGIN:VEVENT
DTSTART;VALUE=DATE:20260109
DTEND;VALUE=DATE:20260110
DTSTAMP:20260425T183400
CREATED:20251231T221020Z
LAST-MODIFIED:20251231T221020Z
UID:10000349-1767916800-1768003199@kingdomkidscdc.org
SUMMARY:Cozy Sock Day
DESCRIPTION:
URL:https://kingdomkidscdc.org/event/cozy-sock-day/
CATEGORIES:notes
END:VEVENT
BEGIN:VEVENT
DTSTART;VALUE=DATE:20260106
DTEND;VALUE=DATE:20260107
DTSTAMP:20260425T183400
CREATED:20251231T220811Z
LAST-MODIFIED:20251231T220811Z
UID:10000345-1767657600-1767743999@kingdomkidscdc.org
SUMMARY:PJ Day
DESCRIPTION:Reminder: NO one-piece PJ’s and NO house shoes
URL:https://kingdomkidscdc.org/event/pj-day-4/
CATEGORIES:notes
END:VEVENT
BEGIN:VEVENT
DTSTART;VALUE=DATE:20260105
DTEND;VALUE=DATE:20260110
DTSTAMP:20260425T183400
CREATED:20251216T200909Z
LAST-MODIFIED:20251216T200946Z
UID:10000338-1767571200-1768003199@kingdomkidscdc.org
SUMMARY:Snow & Ice
DESCRIPTION:Goals: Sensory exploration\, temperature awareness\, cause/effect \nActivities: \n\n\nIce painting with colored cubes \n\n\nShaving-cream “snow” play \n\n\nSnowflake collage \n\n\nCotton-ball snow sensory bin
URL:https://kingdomkidscdc.org/event/snow-ice/
CATEGORIES:daycare
END:VEVENT
BEGIN:VEVENT
DTSTART;VALUE=DATE:20260104
DTEND;VALUE=DATE:20260105
DTSTAMP:20260425T183400
CREATED:20251216T201728Z
LAST-MODIFIED:20251216T201728Z
UID:10000343-1767484800-1767571199@kingdomkidscdc.org
SUMMARY:Memory Verse
DESCRIPTION:Lamentations 3:22-23 ” His mercies are new every morning; great is Your faithfulness.”
URL:https://kingdomkidscdc.org/event/memory-verse/
CATEGORIES:notes
END:VEVENT
BEGIN:VEVENT
DTSTART;VALUE=DATE:20260102
DTEND;VALUE=DATE:20260103
DTSTAMP:20260425T183400
CREATED:20251231T220734Z
LAST-MODIFIED:20251231T220734Z
UID:10000344-1767312000-1767398399@kingdomkidscdc.org
SUMMARY:PJ Day
DESCRIPTION:Reminder: NO one-piece PJ’s and NO house shoes
URL:https://kingdomkidscdc.org/event/pj-day-3/
CATEGORIES:notes
END:VEVENT
BEGIN:VEVENT
DTSTART;VALUE=DATE:20260101
DTEND;VALUE=DATE:20260102
DTSTAMP:20260425T183400
CREATED:20251216T201435Z
LAST-MODIFIED:20251216T201435Z
UID:10000341-1767225600-1767311999@kingdomkidscdc.org
SUMMARY:Closed for NEW YEAR
DESCRIPTION:
URL:https://kingdomkidscdc.org/event/closed-for-new-year/
END:VEVENT
BEGIN:VEVENT
DTSTART;VALUE=DATE:20251127
DTEND;VALUE=DATE:20251129
DTSTAMP:20260425T183400
CREATED:20251105T204616Z
LAST-MODIFIED:20251105T204616Z
UID:10000337-1764201600-1764374399@kingdomkidscdc.org
SUMMARY:Happy Thanksgiving
DESCRIPTION:Closed
URL:https://kingdomkidscdc.org/event/happy-thanksgiving/
CATEGORIES:notes
END:VEVENT
BEGIN:VEVENT
DTSTART;VALUE=DATE:20251124
DTEND;VALUE=DATE:20251129
DTSTAMP:20260425T183400
CREATED:20251105T204504Z
LAST-MODIFIED:20251105T204504Z
UID:10000336-1763942400-1764374399@kingdomkidscdc.org
SUMMARY:Shapes & Sharing
DESCRIPTION:Theme: Shapes and kindness \n\n\nFine Motor: Gluing shapes\, stacking blocks\, shape puzzles \n\n\nGross Motor: Rolling/passing a ball\, building tall block towers\, body shape play (make a circle with arms\, triangle with legs)
URL:https://kingdomkidscdc.org/event/shapes-sharing/
CATEGORIES:early pre K
END:VEVENT
BEGIN:VEVENT
DTSTART;VALUE=DATE:20251117
DTEND;VALUE=DATE:20251122
DTSTAMP:20260425T183400
CREATED:20251105T204245Z
LAST-MODIFIED:20251105T204245Z
UID:10000335-1763337600-1763769599@kingdomkidscdc.org
SUMMARY:Farm & Harvest
DESCRIPTION: Theme: Farm animals\, food\, and gathering \n\n\nFine Motor: Scooping beans\, pressing veggies into paint\, finger painting \n\n\nGross Motor: Crawling like animals\, flapping like chickens\, stomping like horses
URL:https://kingdomkidscdc.org/event/farm-harvest/
CATEGORIES:early pre K
END:VEVENT
BEGIN:VEVENT
DTSTART;VALUE=DATE:20251110
DTEND;VALUE=DATE:20251115
DTSTAMP:20260425T183400
CREATED:20251105T204129Z
LAST-MODIFIED:20251105T204129Z
UID:10000334-1762732800-1763164799@kingdomkidscdc.org
SUMMARY:Thankfulness & Family
DESCRIPTION:Theme: Family\, gratitude\, and togetherness \n\n\nFine Motor: Coloring feathers\, pasting\, turning book pages \n\n\n Gross Motor: Circle dance to music\, carrying toy food\, stirring/mixing in pretend play
URL:https://kingdomkidscdc.org/event/thankfulness-family/
CATEGORIES:early pre K
END:VEVENT
BEGIN:VEVENT
DTSTART;VALUE=DATE:20251103
DTEND;VALUE=DATE:20251108
DTSTAMP:20260425T183400
CREATED:20251105T203745Z
LAST-MODIFIED:20251105T203940Z
UID:10000333-1762128000-1762559999@kingdomkidscdc.org
SUMMARY:Weather & Seasons
DESCRIPTION:Theme: Sun\, rain\, wind\, and seasonal changes \n\n\nFine Motor: Pinching cotton balls\, gluing\, shaking rain sticks \n\n\nGross Motor: Acting out weather (twirl like wind\, jump in pretend puddles\, stretch arms for sun)
URL:https://kingdomkidscdc.org/event/week-1-weather-seasons/
CATEGORIES:early pre K
END:VEVENT
BEGIN:VEVENT
DTSTART;VALUE=DATE:20251031
DTEND;VALUE=DATE:20251101
DTSTAMP:20260425T183400
CREATED:20251003T205039Z
LAST-MODIFIED:20251003T205039Z
UID:10000332-1761868800-1761955199@kingdomkidscdc.org
SUMMARY:Book Character Day
DESCRIPTION:wear your book character day costume\nNo scary costumes
URL:https://kingdomkidscdc.org/event/book-character-day/
CATEGORIES:notes
END:VEVENT
BEGIN:VEVENT
DTSTART;VALUE=DATE:20251030
DTEND;VALUE=DATE:20251031
DTSTAMP:20260425T183400
CREATED:20251003T204924Z
LAST-MODIFIED:20251003T204924Z
UID:10000331-1761782400-1761868799@kingdomkidscdc.org
SUMMARY:Hat Day
DESCRIPTION:Hats off to excellent decisions
URL:https://kingdomkidscdc.org/event/hat-day/
CATEGORIES:notes
END:VEVENT
BEGIN:VEVENT
DTSTART;VALUE=DATE:20251029
DTEND;VALUE=DATE:20251030
DTSTAMP:20260425T183400
CREATED:20251003T204828Z
LAST-MODIFIED:20251003T204828Z
UID:10000330-1761696000-1761782399@kingdomkidscdc.org
SUMMARY:Pjs and Crazy Socks
DESCRIPTION:our best foot forward
URL:https://kingdomkidscdc.org/event/pjs-and-crazy-socks/
CATEGORIES:notes
END:VEVENT
BEGIN:VEVENT
DTSTART;VALUE=DATE:20251028
DTEND;VALUE=DATE:20251029
DTSTAMP:20260425T183400
CREATED:20251003T204733Z
LAST-MODIFIED:20251003T204733Z
UID:10000329-1761609600-1761695999@kingdomkidscdc.org
SUMMARY:Wear Shades
DESCRIPTION:our future is so bright
URL:https://kingdomkidscdc.org/event/wear-shades/
CATEGORIES:notes
END:VEVENT
END:VCALENDAR