BEGIN:VCALENDAR
VERSION:2.0
PRODID:-//Kingdom Kids - ECPv6.15.20//NONSGML v1.0//EN
CALSCALE:GREGORIAN
METHOD:PUBLISH
X-WR-CALNAME:Kingdom Kids
X-ORIGINAL-URL:https://kingdomkidscdc.org
X-WR-CALDESC:Events for Kingdom Kids
REFRESH-INTERVAL;VALUE=DURATION:PT1H
X-Robots-Tag:noindex
X-PUBLISHED-TTL:PT1H
BEGIN:VTIMEZONE
TZID:America/Chicago
BEGIN:DAYLIGHT
TZOFFSETFROM:-0600
TZOFFSETTO:-0500
TZNAME:CDT
DTSTART:20250309T080000
END:DAYLIGHT
BEGIN:STANDARD
TZOFFSETFROM:-0500
TZOFFSETTO:-0600
TZNAME:CST
DTSTART:20251102T070000
END:STANDARD
BEGIN:DAYLIGHT
TZOFFSETFROM:-0600
TZOFFSETTO:-0500
TZNAME:CDT
DTSTART:20260308T080000
END:DAYLIGHT
BEGIN:STANDARD
TZOFFSETFROM:-0500
TZOFFSETTO:-0600
TZNAME:CST
DTSTART:20261101T070000
END:STANDARD
BEGIN:DAYLIGHT
TZOFFSETFROM:-0600
TZOFFSETTO:-0500
TZNAME:CDT
DTSTART:20270314T080000
END:DAYLIGHT
BEGIN:STANDARD
TZOFFSETFROM:-0500
TZOFFSETTO:-0600
TZNAME:CST
DTSTART:20271107T070000
END:STANDARD
END:VTIMEZONE
BEGIN:VEVENT
DTSTART;VALUE=DATE:20260302
DTEND;VALUE=DATE:20260307
DTSTAMP:20260425T105532
CREATED:20260310T145905Z
LAST-MODIFIED:20260310T145905Z
UID:10000364-1772409600-1772841599@kingdomkidscdc.org
SUMMARY:Making Friends
DESCRIPTION:Focus: Names\, Greetings\, Inviting play
URL:https://kingdomkidscdc.org/event/making-friends/
CATEGORIES:daycare
END:VEVENT
BEGIN:VEVENT
DTSTART;VALUE=DATE:20260309
DTEND;VALUE=DATE:20260314
DTSTAMP:20260425T105532
CREATED:20260310T150001Z
LAST-MODIFIED:20260310T150001Z
UID:10000365-1773014400-1773446399@kingdomkidscdc.org
SUMMARY:Identifying Feelings
DESCRIPTION:Focus: Happy\, Sad\, Angry
URL:https://kingdomkidscdc.org/event/identifying-feelings/
CATEGORIES:daycare
END:VEVENT
BEGIN:VEVENT
DTSTART;VALUE=DATE:20260312
DTEND;VALUE=DATE:20260313
DTSTAMP:20260425T105532
CREATED:20260310T152110Z
LAST-MODIFIED:20260310T152110Z
UID:10000369-1773273600-1773359999@kingdomkidscdc.org
SUMMARY:Wear a Flower
DESCRIPTION:its national plant a Flower Day\, so wear a flower
URL:https://kingdomkidscdc.org/event/wear-a-flower/
CATEGORIES:notes
END:VEVENT
BEGIN:VEVENT
DTSTART;VALUE=DATE:20260316
DTEND;VALUE=DATE:20260321
DTSTAMP:20260425T105532
CREATED:20260310T150142Z
LAST-MODIFIED:20260310T150142Z
UID:10000366-1773619200-1774051199@kingdomkidscdc.org
SUMMARY:Caring & Communication
DESCRIPTION:Focus: Empathy\, Helping\, Expressing Feelings
URL:https://kingdomkidscdc.org/event/caring-communication/
CATEGORIES:daycare
END:VEVENT
BEGIN:VEVENT
DTSTART;VALUE=DATE:20260317
DTEND;VALUE=DATE:20260318
DTSTAMP:20260425T105532
CREATED:20260310T152200Z
LAST-MODIFIED:20260310T152200Z
UID:10000370-1773705600-1773791999@kingdomkidscdc.org
SUMMARY:Happy St\, Patrick's Day Wear Green
DESCRIPTION:Wear Green!
URL:https://kingdomkidscdc.org/event/happy-st-patricks-day-wear-green/
CATEGORIES:daycare
END:VEVENT
BEGIN:VEVENT
DTSTART;VALUE=DATE:20260320
DTEND;VALUE=DATE:20260321
DTSTAMP:20260425T105532
CREATED:20260310T152239Z
LAST-MODIFIED:20260310T152239Z
UID:10000371-1773964800-1774051199@kingdomkidscdc.org
SUMMARY:Happy 1st day of Spring Dress Like Spring!
DESCRIPTION:
URL:https://kingdomkidscdc.org/event/happy-1st-day-of-spring-dress-like-spring/
CATEGORIES:notes
END:VEVENT
BEGIN:VEVENT
DTSTART;VALUE=DATE:20260323
DTEND;VALUE=DATE:20260324
DTSTAMP:20260425T105532
CREATED:20260310T152343Z
LAST-MODIFIED:20260310T152343Z
UID:10000372-1774224000-1774310399@kingdomkidscdc.org
SUMMARY:Twin Day
DESCRIPTION:Find a buddy and come dressed as twins
URL:https://kingdomkidscdc.org/event/twin-day/
CATEGORIES:notes
END:VEVENT
BEGIN:VEVENT
DTSTART;VALUE=DATE:20260323
DTEND;VALUE=DATE:20260328
DTSTAMP:20260425T105532
CREATED:20260310T150929Z
LAST-MODIFIED:20260310T150929Z
UID:10000367-1774224000-1774655999@kingdomkidscdc.org
SUMMARY:Friendship & Cooperation
DESCRIPTION:Focus: Working together\, problem-solving
URL:https://kingdomkidscdc.org/event/friendship-cooperation/
CATEGORIES:daycare
END:VEVENT
BEGIN:VEVENT
DTSTART;VALUE=DATE:20260326
DTEND;VALUE=DATE:20260327
DTSTAMP:20260425T105532
CREATED:20260310T152432Z
LAST-MODIFIED:20260310T152432Z
UID:10000373-1774483200-1774569599@kingdomkidscdc.org
SUMMARY:PJ Day
DESCRIPTION:NO footed pj’s \nNO house shoes \n 
URL:https://kingdomkidscdc.org/event/pj-day-11/
CATEGORIES:notes
END:VEVENT
BEGIN:VEVENT
DTSTART;VALUE=DATE:20260330
DTEND;VALUE=DATE:20260331
DTSTAMP:20260425T105532
CREATED:20260310T152505Z
LAST-MODIFIED:20260310T152505Z
UID:10000374-1774828800-1774915199@kingdomkidscdc.org
SUMMARY:PJ Day
DESCRIPTION:NO footed pj’s \nNO house shoes \n 
URL:https://kingdomkidscdc.org/event/pj-day-12/
CATEGORIES:notes
END:VEVENT
END:VCALENDAR